BEGIN:VCALENDAR
VERSION:2.0
PRODID:-//Ylistaron Alapään Metsästysseura ry - ECPv6.15.20//NONSGML v1.0//EN
CALSCALE:GREGORIAN
METHOD:PUBLISH
X-WR-CALNAME:Ylistaron Alapään Metsästysseura ry
X-ORIGINAL-URL:https://www.yams.fi
X-WR-CALDESC:Tapahtumat Ylistaron Alapään Metsästysseura ry
REFRESH-INTERVAL;VALUE=DURATION:PT1H
X-Robots-Tag:noindex
X-PUBLISHED-TTL:PT1H
BEGIN:VTIMEZONE
TZID:Europe/Helsinki
BEGIN:DAYLIGHT
TZOFFSETFROM:+0200
TZOFFSETTO:+0300
TZNAME:EEST
DTSTART:20210328T010000
END:DAYLIGHT
BEGIN:STANDARD
TZOFFSETFROM:+0300
TZOFFSETTO:+0200
TZNAME:EET
DTSTART:20211031T010000
END:STANDARD
BEGIN:DAYLIGHT
TZOFFSETFROM:+0200
TZOFFSETTO:+0300
TZNAME:EEST
DTSTART:20220327T010000
END:DAYLIGHT
BEGIN:STANDARD
TZOFFSETFROM:+0300
TZOFFSETTO:+0200
TZNAME:EET
DTSTART:20221030T010000
END:STANDARD
BEGIN:DAYLIGHT
TZOFFSETFROM:+0200
TZOFFSETTO:+0300
TZNAME:EEST
DTSTART:20230326T010000
END:DAYLIGHT
BEGIN:STANDARD
TZOFFSETFROM:+0300
TZOFFSETTO:+0200
TZNAME:EET
DTSTART:20231029T010000
END:STANDARD
END:VTIMEZONE
BEGIN:VEVENT
DTSTART;TZID=Europe/Helsinki:20220902T180000
DTEND;TZID=Europe/Helsinki:20220902T190000
DTSTAMP:20260423T030818
CREATED:20220520T195016Z
LAST-MODIFIED:20220520T200638Z
UID:1449-1662141600-1662145200@www.yams.fi
SUMMARY:KUUKAUSIKISA; HIRVI 4+6\, PIENOISHIRVI\, (PISTOOLI). VALVOJAT; P. SUNDBERG\, A. PUNKARI
DESCRIPTION:
URL:https://www.yams.fi/tapahtuma/kuukausikisa-hirvi-46-pienoishirvi-pistooli-valvojat-p-sundberg-a-punkari-j-komppa/
END:VEVENT
BEGIN:VEVENT
DTSTART;TZID=Europe/Helsinki:20220903T110000
DTEND;TZID=Europe/Helsinki:20220903T130000
DTSTAMP:20260423T030818
CREATED:20220813T091208Z
LAST-MODIFIED:20220813T091208Z
UID:1480-1662202800-1662210000@www.yams.fi
SUMMARY:HIRVIMERKKI HARJOITUS. VALVOJAT; PEKKA LEMPONEN\, ESA RUSULA
DESCRIPTION:
URL:https://www.yams.fi/tapahtuma/hirvimerkki-harjoitus-valvojat-pekka-lemponen-esa-rusula/
END:VEVENT
BEGIN:VEVENT
DTSTART;TZID=Europe/Helsinki:20220904T120000
DTEND;TZID=Europe/Helsinki:20220904T140000
DTSTAMP:20260423T030818
CREATED:20220727T102846Z
LAST-MODIFIED:20220727T102846Z
UID:1474-1662292800-1662300000@www.yams.fi
SUMMARY:RHY:n hirvimerkkiammunta. Valvojat; Jussi Komppa\, Timo Punkari\, Seppo Lemponen
DESCRIPTION:
URL:https://www.yams.fi/tapahtuma/rhyn-hirvimerkkiammunta-valvojat-jussi-komppa-timo-punkari-seppo-lemponen/
END:VEVENT
BEGIN:VEVENT
DTSTART;TZID=Europe/Helsinki:20220909T180000
DTEND;TZID=Europe/Helsinki:20220909T190000
DTSTAMP:20260423T030818
CREATED:20220520T195129Z
LAST-MODIFIED:20220520T195129Z
UID:1451-1662746400-1662750000@www.yams.fi
SUMMARY:HIRVIMERKKI HARJOITUS. VALVOJAT; S. LEMPONEN\, A. PALOHEIMO
DESCRIPTION:
URL:https://www.yams.fi/tapahtuma/hirvimerkki-harjoitus-valvojat-s-lemponen-a-paloheimo/
END:VEVENT
BEGIN:VEVENT
DTSTART;TZID=Europe/Helsinki:20220916T180000
DTEND;TZID=Europe/Helsinki:20220916T190000
DTSTAMP:20260423T030818
CREATED:20220520T195257Z
LAST-MODIFIED:20220520T195257Z
UID:1453-1663351200-1663354800@www.yams.fi
SUMMARY:HIRVIMERKKI HARJOITUS. VALVOJAT; S. LEMPONEN\, A. PALOHEIMO
DESCRIPTION:
URL:https://www.yams.fi/tapahtuma/hirvimerkki-harjoitus-valvojat-s-lemponen-a-paloheimo-2/
END:VEVENT
BEGIN:VEVENT
DTSTART;TZID=Europe/Helsinki:20220918T120000
DTEND;TZID=Europe/Helsinki:20220918T140000
DTSTAMP:20260423T030818
CREATED:20220727T103114Z
LAST-MODIFIED:20220727T103114Z
UID:1477-1663502400-1663509600@www.yams.fi
SUMMARY:RHY:n hirvimerkkiammunta. Valvojat; Kari Niinisalo\, Matti Punkari\, Mika Punkari
DESCRIPTION:
URL:https://www.yams.fi/tapahtuma/rhyn-hirvimerkkiammunta-valvojat-kari-niinisalo-matti-punkari-mika-punkari/
END:VEVENT
END:VCALENDAR