BEGIN:VCALENDAR
VERSION:2.0
PRODID:-//Ylistaron Alapään Metsästysseura ry - ECPv6.15.20//NONSGML v1.0//EN
CALSCALE:GREGORIAN
METHOD:PUBLISH
X-WR-CALNAME:Ylistaron Alapään Metsästysseura ry
X-ORIGINAL-URL:https://www.yams.fi
X-WR-CALDESC:Tapahtumat Ylistaron Alapään Metsästysseura ry
REFRESH-INTERVAL;VALUE=DURATION:PT1H
X-Robots-Tag:noindex
X-PUBLISHED-TTL:PT1H
BEGIN:VTIMEZONE
TZID:Europe/Helsinki
BEGIN:DAYLIGHT
TZOFFSETFROM:+0200
TZOFFSETTO:+0300
TZNAME:EEST
DTSTART:20210328T010000
END:DAYLIGHT
BEGIN:STANDARD
TZOFFSETFROM:+0300
TZOFFSETTO:+0200
TZNAME:EET
DTSTART:20211031T010000
END:STANDARD
BEGIN:DAYLIGHT
TZOFFSETFROM:+0200
TZOFFSETTO:+0300
TZNAME:EEST
DTSTART:20220327T010000
END:DAYLIGHT
BEGIN:STANDARD
TZOFFSETFROM:+0300
TZOFFSETTO:+0200
TZNAME:EET
DTSTART:20221030T010000
END:STANDARD
BEGIN:DAYLIGHT
TZOFFSETFROM:+0200
TZOFFSETTO:+0300
TZNAME:EEST
DTSTART:20230326T010000
END:DAYLIGHT
BEGIN:STANDARD
TZOFFSETFROM:+0300
TZOFFSETTO:+0200
TZNAME:EET
DTSTART:20231029T010000
END:STANDARD
END:VTIMEZONE
BEGIN:VEVENT
DTSTART;TZID=Europe/Helsinki:20220603T180000
DTEND;TZID=Europe/Helsinki:20220603T190000
DTSTAMP:20260423T083246
CREATED:20220520T190048Z
LAST-MODIFIED:20220520T190048Z
UID:1409-1654279200-1654282800@www.yams.fi
SUMMARY:KUUKAUSIKISA; HIRVI 4+6\, PIENOISHIRVI\, (PISTOOLI) + (KARHU HARJOITUS). VALVOJAT; J. KOMPPA\, K.NIINISALO
DESCRIPTION:
URL:https://www.yams.fi/tapahtuma/kuukausikisa-hirvi-46-pienoishirvi-pistooli-karhu-harjoitus-valvojat-j-komppa-k-niinisalo/
END:VEVENT
BEGIN:VEVENT
DTSTART;TZID=Europe/Helsinki:20220605T180000
DTEND;TZID=Europe/Helsinki:20220605T200000
DTSTAMP:20260423T083246
CREATED:20220520T190706Z
LAST-MODIFIED:20220520T190706Z
UID:1413-1654452000-1654459200@www.yams.fi
SUMMARY:HAULIKKOHARJOITUS
DESCRIPTION:
URL:https://www.yams.fi/tapahtuma/haulikkoharjoitus-28/
END:VEVENT
BEGIN:VEVENT
DTSTART;TZID=Europe/Helsinki:20220610T180000
DTEND;TZID=Europe/Helsinki:20220610T190000
DTSTAMP:20260423T083246
CREATED:20220520T191903Z
LAST-MODIFIED:20220520T191903Z
UID:1425-1654884000-1654887600@www.yams.fi
SUMMARY:HARJOITUSILTA (HIRVI + KARHU ) VALVOJAT; J. KOMPPA\, K. NIINISALO
DESCRIPTION:
URL:https://www.yams.fi/tapahtuma/harjoitusilta-hirvi-karhu-valvojat-j-komppa-k-niinisalo/
END:VEVENT
BEGIN:VEVENT
DTSTART;TZID=Europe/Helsinki:20220617T180000
DTEND;TZID=Europe/Helsinki:20220617T190000
DTSTAMP:20260423T083246
CREATED:20220520T192143Z
LAST-MODIFIED:20220520T192143Z
UID:1427-1655488800-1655492400@www.yams.fi
SUMMARY:HARJOITUSILTA (HIRVI + KARHU). VALVOJAT; H. PUNKARI\, MIKA PUNKARI
DESCRIPTION:
URL:https://www.yams.fi/tapahtuma/harjoitusilta-hirvi-karhu-valvojat-h-punkari-mika-punkari/
END:VEVENT
BEGIN:VEVENT
DTSTART;TZID=Europe/Helsinki:20220619T180000
DTEND;TZID=Europe/Helsinki:20220619T200000
DTSTAMP:20260423T083246
CREATED:20220520T190813Z
LAST-MODIFIED:20220520T190813Z
UID:1415-1655661600-1655668800@www.yams.fi
SUMMARY:KUUKAUSIKISA\, HAULIKKO
DESCRIPTION:
URL:https://www.yams.fi/tapahtuma/kuukausikisa-haulikko-24/
END:VEVENT
END:VCALENDAR