BEGIN:VCALENDAR
VERSION:2.0
PRODID:-//Ylistaron Alapään Metsästysseura ry - ECPv6.15.20//NONSGML v1.0//EN
CALSCALE:GREGORIAN
METHOD:PUBLISH
X-WR-CALNAME:Ylistaron Alapään Metsästysseura ry
X-ORIGINAL-URL:https://www.yams.fi
X-WR-CALDESC:Tapahtumat Ylistaron Alapään Metsästysseura ry
REFRESH-INTERVAL;VALUE=DURATION:PT1H
X-Robots-Tag:noindex
X-PUBLISHED-TTL:PT1H
BEGIN:VTIMEZONE
TZID:Europe/Helsinki
BEGIN:DAYLIGHT
TZOFFSETFROM:+0200
TZOFFSETTO:+0300
TZNAME:EEST
DTSTART:20200329T010000
END:DAYLIGHT
BEGIN:STANDARD
TZOFFSETFROM:+0300
TZOFFSETTO:+0200
TZNAME:EET
DTSTART:20201025T010000
END:STANDARD
BEGIN:DAYLIGHT
TZOFFSETFROM:+0200
TZOFFSETTO:+0300
TZNAME:EEST
DTSTART:20210328T010000
END:DAYLIGHT
BEGIN:STANDARD
TZOFFSETFROM:+0300
TZOFFSETTO:+0200
TZNAME:EET
DTSTART:20211031T010000
END:STANDARD
BEGIN:DAYLIGHT
TZOFFSETFROM:+0200
TZOFFSETTO:+0300
TZNAME:EEST
DTSTART:20220327T010000
END:DAYLIGHT
BEGIN:STANDARD
TZOFFSETFROM:+0300
TZOFFSETTO:+0200
TZNAME:EET
DTSTART:20221030T010000
END:STANDARD
END:VTIMEZONE
BEGIN:VEVENT
DTSTART;TZID=Europe/Helsinki:20210806T180000
DTEND;TZID=Europe/Helsinki:20210806T210000
DTSTAMP:20260424T023533
CREATED:20210517T140756Z
LAST-MODIFIED:20210517T140756Z
UID:1300-1628272800-1628283600@www.yams.fi
SUMMARY:Kuukausikisa. Hirvi 4+6\, pienoishirvi\, pistooli. Valvojat; P. Valtari\, S. Valtari\, Antti Punkari
DESCRIPTION:
URL:https://www.yams.fi/tapahtuma/kuukausikisa-hirvi-46-pienoishirvi-pistooli-valvojat-p-valtari-s-valtari-antti-punkari/
END:VEVENT
BEGIN:VEVENT
DTSTART;TZID=Europe/Helsinki:20210808T180000
DTEND;TZID=Europe/Helsinki:20210808T210000
DTSTAMP:20260424T023533
CREATED:20210517T144802Z
LAST-MODIFIED:20210517T144802Z
UID:1332-1628445600-1628456400@www.yams.fi
SUMMARY:Kuukausikisa. Haulikko.
DESCRIPTION:
URL:https://www.yams.fi/tapahtuma/kuukausikisa-haulikko-22/
END:VEVENT
BEGIN:VEVENT
DTSTART;TZID=Europe/Helsinki:20210811T180000
DTEND;TZID=Europe/Helsinki:20210811T200000
DTSTAMP:20260424T023533
CREATED:20210717T164809Z
LAST-MODIFIED:20210717T164809Z
UID:1340-1628704800-1628712000@www.yams.fi
SUMMARY:RHY:n merkkiammunta. Valvojat; Juha Rusula\, Markus Soinne\, Timo Punkari
DESCRIPTION:
URL:https://www.yams.fi/tapahtuma/rhyn-merkkiammunta-valvojat-juha-rusula-markus-soinne-timo-punkari/
END:VEVENT
BEGIN:VEVENT
DTSTART;TZID=Europe/Helsinki:20210813T180000
DTEND;TZID=Europe/Helsinki:20210813T210000
DTSTAMP:20260424T023533
CREATED:20210517T141021Z
LAST-MODIFIED:20210517T141021Z
UID:1302-1628877600-1628888400@www.yams.fi
SUMMARY:Harjoitusilta. Valvojat; P. Valtari\, S. Valtari\, Antti Punkari
DESCRIPTION:
URL:https://www.yams.fi/tapahtuma/harjoitusilta-valvojat-p-valtari-s-valtari-antti-punkari/
END:VEVENT
BEGIN:VEVENT
DTSTART;TZID=Europe/Helsinki:20210815T140000
DTEND;TZID=Europe/Helsinki:20210815T160000
DTSTAMP:20260424T023533
CREATED:20210808T114749Z
LAST-MODIFIED:20210808T114749Z
UID:1351-1629036000-1629043200@www.yams.fi
SUMMARY:HARJOITUSILTA. Valvojat ampujien kesken.
DESCRIPTION:
URL:https://www.yams.fi/tapahtuma/harjoitusilta-valvojat-ampujien-kesken/
END:VEVENT
BEGIN:VEVENT
DTSTART;TZID=Europe/Helsinki:20210820T180000
DTEND;TZID=Europe/Helsinki:20210820T210000
DTSTAMP:20260424T023533
CREATED:20210517T141544Z
LAST-MODIFIED:20210517T141544Z
UID:1304-1629482400-1629493200@www.yams.fi
SUMMARY:Harjoitusilta. Valvojat; P. Lemponen\, Matti Punkari\, E. Rusula
DESCRIPTION:
URL:https://www.yams.fi/tapahtuma/harjoitusilta-valvojat-p-lemponen-matti-punkari-e-rusula/
END:VEVENT
BEGIN:VEVENT
DTSTART;TZID=Europe/Helsinki:20210822T120000
DTEND;TZID=Europe/Helsinki:20210822T140000
DTSTAMP:20260424T023533
CREATED:20210717T165539Z
LAST-MODIFIED:20210717T165539Z
UID:1344-1629633600-1629640800@www.yams.fi
SUMMARY:RHY:n merkkiammunta. Valvojat; Mika Punkari\, Heikki Punkari\, Kari Niinisalo
DESCRIPTION:
URL:https://www.yams.fi/tapahtuma/rhyn-merkkiammunta-valvojat-mika-punkari-heikki-punkari-kari-niinisalo/
END:VEVENT
BEGIN:VEVENT
DTSTART;TZID=Europe/Helsinki:20210827T180000
DTEND;TZID=Europe/Helsinki:20210827T210000
DTSTAMP:20260424T023533
CREATED:20210517T141827Z
LAST-MODIFIED:20210517T141827Z
UID:1307-1630087200-1630098000@www.yams.fi
SUMMARY:Hirvimerkki harjoitus. Valvojat; P. Lemponen\, Matti Punkari\, E. Rusula
DESCRIPTION:
URL:https://www.yams.fi/tapahtuma/hirvimerkki-harjoitus-valvojat-p-lemponen-matti-punkari-e-rusula-2/
END:VEVENT
BEGIN:VEVENT
DTSTART;TZID=Europe/Helsinki:20210829T140000
DTEND;TZID=Europe/Helsinki:20210829T160000
DTSTAMP:20260424T023533
CREATED:20210808T115002Z
LAST-MODIFIED:20210808T115002Z
UID:1353-1630245600-1630252800@www.yams.fi
SUMMARY:HARJOITUSILTA. Valvojat ampujien kesken.
DESCRIPTION:
URL:https://www.yams.fi/tapahtuma/harjoitusilta-valvojat-ampujien-kesken-2/
END:VEVENT
END:VCALENDAR