BEGIN:VCALENDAR
VERSION:2.0
PRODID:-//Ylistaron Alapään Metsästysseura ry - ECPv6.15.20//NONSGML v1.0//EN
CALSCALE:GREGORIAN
METHOD:PUBLISH
X-ORIGINAL-URL:https://www.yams.fi
X-WR-CALDESC:Tapahtumat Ylistaron Alapään Metsästysseura ry
REFRESH-INTERVAL;VALUE=DURATION:PT1H
X-Robots-Tag:noindex
X-PUBLISHED-TTL:PT1H
BEGIN:VTIMEZONE
TZID:Europe/Helsinki
BEGIN:DAYLIGHT
TZOFFSETFROM:+0200
TZOFFSETTO:+0300
TZNAME:EEST
DTSTART:20200329T010000
END:DAYLIGHT
BEGIN:STANDARD
TZOFFSETFROM:+0300
TZOFFSETTO:+0200
TZNAME:EET
DTSTART:20201025T010000
END:STANDARD
BEGIN:DAYLIGHT
TZOFFSETFROM:+0200
TZOFFSETTO:+0300
TZNAME:EEST
DTSTART:20210328T010000
END:DAYLIGHT
BEGIN:STANDARD
TZOFFSETFROM:+0300
TZOFFSETTO:+0200
TZNAME:EET
DTSTART:20211031T010000
END:STANDARD
BEGIN:DAYLIGHT
TZOFFSETFROM:+0200
TZOFFSETTO:+0300
TZNAME:EEST
DTSTART:20220327T010000
END:DAYLIGHT
BEGIN:STANDARD
TZOFFSETFROM:+0300
TZOFFSETTO:+0200
TZNAME:EET
DTSTART:20221030T010000
END:STANDARD
END:VTIMEZONE
BEGIN:VEVENT
DTSTART;TZID=Europe/Helsinki:20210604T180000
DTEND;TZID=Europe/Helsinki:20210604T210000
DTSTAMP:20260424T064135
CREATED:20210517T133734Z
LAST-MODIFIED:20210517T133734Z
UID:1280-1622829600-1622840400@www.yams.fi
SUMMARY:Harjoitusilta. (hirvi + karhu). Valvojat; J. Komppa\, Heikki Punkari\, K. Niinisalo
DESCRIPTION:
URL:https://www.yams.fi/tapahtuma/harjoitusilta-hirvi-karhu-valvojat-j-komppa-heikki-punkari-k-niinisalo/
END:VEVENT
BEGIN:VEVENT
DTSTART;TZID=Europe/Helsinki:20210606T180000
DTEND;TZID=Europe/Helsinki:20210606T210000
DTSTAMP:20260424T064135
CREATED:20210517T143730Z
LAST-MODIFIED:20210517T143730Z
UID:1319-1623002400-1623013200@www.yams.fi
SUMMARY:Haulikkoharjoitus.
DESCRIPTION:
URL:https://www.yams.fi/tapahtuma/haulikkoharjoitus-27/
END:VEVENT
BEGIN:VEVENT
DTSTART;TZID=Europe/Helsinki:20210611T180000
DTEND;TZID=Europe/Helsinki:20210611T210000
DTSTAMP:20260424T064135
CREATED:20210517T133932Z
LAST-MODIFIED:20210517T133932Z
UID:1282-1623434400-1623445200@www.yams.fi
SUMMARY:Harjoitusilta. (hirvi + karhu). Valvojat; J. Komppa\, Heikki Punkari\, K. Niinisalo
DESCRIPTION:
URL:https://www.yams.fi/tapahtuma/harjoitusilta-hirvi-karhu-valvojat-j-komppa-heikki-punkari-k-niinisalo-2/
END:VEVENT
BEGIN:VEVENT
DTSTART;TZID=Europe/Helsinki:20210618T180000
DTEND;TZID=Europe/Helsinki:20210618T210000
DTSTAMP:20260424T064135
CREATED:20210517T134206Z
LAST-MODIFIED:20210517T134206Z
UID:1284-1624039200-1624050000@www.yams.fi
SUMMARY:Kuukausikisa. Hirvi 4+6\, pienoishirvi\, pistooli +(karhu harjoitus). Valvojat; S. Lemponen\, Mika Punkari\, J. Pohto
DESCRIPTION:
URL:https://www.yams.fi/tapahtuma/kuukausikisa-hirvi-46-pienoishirvi-pistooli-karhu-harjoitus-valvojat-s-lemponen-mika-punkari-j-pohto/
END:VEVENT
BEGIN:VEVENT
DTSTART;TZID=Europe/Helsinki:20210620T180000
DTEND;TZID=Europe/Helsinki:20210620T210000
DTSTAMP:20260424T064135
CREATED:20210517T143853Z
LAST-MODIFIED:20210517T143853Z
UID:1321-1624212000-1624222800@www.yams.fi
SUMMARY:Kuukausikisa. Haulikko.
DESCRIPTION:
URL:https://www.yams.fi/tapahtuma/kuukausikisa-haulikko-20/
END:VEVENT
BEGIN:VEVENT
DTSTART;TZID=Europe/Helsinki:20210625T160000
DTEND;TZID=Europe/Helsinki:20210625T233000
DTSTAMP:20260424T064135
CREATED:20210517T134636Z
LAST-MODIFIED:20210517T134636Z
UID:1286-1624636800-1624663800@www.yams.fi
SUMMARY:RAUHALLISTA JUHANNUSTA !
DESCRIPTION:
URL:https://www.yams.fi/tapahtuma/rauhallista-juhannusta/
END:VEVENT
END:VCALENDAR