BEGIN:VCALENDAR
VERSION:2.0
PRODID:-//Ylistaron Alapään Metsästysseura ry - ECPv6.15.20//NONSGML v1.0//EN
CALSCALE:GREGORIAN
METHOD:PUBLISH
X-ORIGINAL-URL:https://www.yams.fi
X-WR-CALDESC:Tapahtumat Ylistaron Alapään Metsästysseura ry
REFRESH-INTERVAL;VALUE=DURATION:PT1H
X-Robots-Tag:noindex
X-PUBLISHED-TTL:PT1H
BEGIN:VTIMEZONE
TZID:Europe/Helsinki
BEGIN:DAYLIGHT
TZOFFSETFROM:+0200
TZOFFSETTO:+0300
TZNAME:EEST
DTSTART:20200329T010000
END:DAYLIGHT
BEGIN:STANDARD
TZOFFSETFROM:+0300
TZOFFSETTO:+0200
TZNAME:EET
DTSTART:20201025T010000
END:STANDARD
BEGIN:DAYLIGHT
TZOFFSETFROM:+0200
TZOFFSETTO:+0300
TZNAME:EEST
DTSTART:20210328T010000
END:DAYLIGHT
BEGIN:STANDARD
TZOFFSETFROM:+0300
TZOFFSETTO:+0200
TZNAME:EET
DTSTART:20211031T010000
END:STANDARD
BEGIN:DAYLIGHT
TZOFFSETFROM:+0200
TZOFFSETTO:+0300
TZNAME:EEST
DTSTART:20220327T010000
END:DAYLIGHT
BEGIN:STANDARD
TZOFFSETFROM:+0300
TZOFFSETTO:+0200
TZNAME:EET
DTSTART:20221030T010000
END:STANDARD
END:VTIMEZONE
BEGIN:VEVENT
DTSTART;TZID=Europe/Helsinki:20210528T180000
DTEND;TZID=Europe/Helsinki:20210528T210000
DTSTAMP:20260424T082546
CREATED:20210517T133318Z
LAST-MODIFIED:20210517T133318Z
UID:1278-1622224800-1622235600@www.yams.fi
SUMMARY:Kuukausikisa; hirvi 4+6\, pienoishirvi\, pistooli\, (karhu harjoitus). Valvojat; J. Komppa\, Heikki Punkari\, K.Niinisalo
DESCRIPTION:
URL:https://www.yams.fi/tapahtuma/kuukausikisa-hirvi-46-pienoishirvi-pistooli-karhu-harjoitus-valvojat-j-komppa-heikki-punkari-k-niinisalo/
END:VEVENT
BEGIN:VEVENT
DTSTART;TZID=Europe/Helsinki:20210530T180000
DTEND;TZID=Europe/Helsinki:20210530T210000
DTSTAMP:20260424T082546
CREATED:20210517T143633Z
LAST-MODIFIED:20210517T143633Z
UID:1317-1622397600-1622408400@www.yams.fi
SUMMARY:Kuukausikisa. Haulikko.
DESCRIPTION:
URL:https://www.yams.fi/tapahtuma/kuukausikisa-haulikko-19/
END:VEVENT
END:VCALENDAR