BEGIN:VCALENDAR
VERSION:2.0
PRODID:-//Ylistaron Alapään Metsästysseura ry - ECPv6.15.20//NONSGML v1.0//EN
CALSCALE:GREGORIAN
METHOD:PUBLISH
X-WR-CALNAME:Ylistaron Alapään Metsästysseura ry
X-ORIGINAL-URL:https://www.yams.fi
X-WR-CALDESC:Tapahtumat Ylistaron Alapään Metsästysseura ry
REFRESH-INTERVAL;VALUE=DURATION:PT1H
X-Robots-Tag:noindex
X-PUBLISHED-TTL:PT1H
BEGIN:VTIMEZONE
TZID:Europe/Helsinki
BEGIN:DAYLIGHT
TZOFFSETFROM:+0200
TZOFFSETTO:+0300
TZNAME:EEST
DTSTART:20190331T010000
END:DAYLIGHT
BEGIN:STANDARD
TZOFFSETFROM:+0300
TZOFFSETTO:+0200
TZNAME:EET
DTSTART:20191027T010000
END:STANDARD
BEGIN:DAYLIGHT
TZOFFSETFROM:+0200
TZOFFSETTO:+0300
TZNAME:EEST
DTSTART:20200329T010000
END:DAYLIGHT
BEGIN:STANDARD
TZOFFSETFROM:+0300
TZOFFSETTO:+0200
TZNAME:EET
DTSTART:20201025T010000
END:STANDARD
BEGIN:DAYLIGHT
TZOFFSETFROM:+0200
TZOFFSETTO:+0300
TZNAME:EEST
DTSTART:20210328T010000
END:DAYLIGHT
BEGIN:STANDARD
TZOFFSETFROM:+0300
TZOFFSETTO:+0200
TZNAME:EET
DTSTART:20211031T010000
END:STANDARD
END:VTIMEZONE
BEGIN:VEVENT
DTSTART;TZID=Europe/Helsinki:20200703T180000
DTEND;TZID=Europe/Helsinki:20200703T190000
DTSTAMP:20260425T013921
CREATED:20200515T161221Z
LAST-MODIFIED:20200515T161221Z
UID:1156-1593799200-1593802800@www.yams.fi
SUMMARY:Kämpänkisa. Kivääri\, haulikko\, pistooli.
DESCRIPTION:Valvojat; J.Rusula\, A.Valtari\, P.Rusula
URL:https://www.yams.fi/tapahtuma/kampankisa-kivaari-haulikko-pistooli-2/
END:VEVENT
BEGIN:VEVENT
DTSTART;TZID=Europe/Helsinki:20200705T180000
DTEND;TZID=Europe/Helsinki:20200705T200000
DTSTAMP:20260425T013921
CREATED:20200525T142544Z
LAST-MODIFIED:20200525T142544Z
UID:1197-1593972000-1593979200@www.yams.fi
SUMMARY:Kuukausikisa. Haulikko.
DESCRIPTION:
URL:https://www.yams.fi/tapahtuma/kuukausikisa-haulikko-17/
END:VEVENT
BEGIN:VEVENT
DTSTART;TZID=Europe/Helsinki:20200710T180000
DTEND;TZID=Europe/Helsinki:20200710T190000
DTSTAMP:20260425T013921
CREATED:20200515T161805Z
LAST-MODIFIED:20200515T161805Z
UID:1162-1594404000-1594407600@www.yams.fi
SUMMARY:Harjoitusammunnat.
DESCRIPTION:Valvojat; J.Rusula\, A.Valtari\, P.Rusula
URL:https://www.yams.fi/tapahtuma/harjoitusammunnat-4/
END:VEVENT
BEGIN:VEVENT
DTSTART;TZID=Europe/Helsinki:20200717T180000
DTEND;TZID=Europe/Helsinki:20200717T190000
DTSTAMP:20260425T013921
CREATED:20200515T161921Z
LAST-MODIFIED:20200515T161921Z
UID:1164-1595008800-1595012400@www.yams.fi
SUMMARY:Harjoitusammunnat.
DESCRIPTION:Valvojat; J.Rusula\, A.Valtari\, P.Rusula
URL:https://www.yams.fi/tapahtuma/harjoitusammunnat-5/
END:VEVENT
BEGIN:VEVENT
DTSTART;TZID=Europe/Helsinki:20200718T110000
DTEND;TZID=Europe/Helsinki:20200718T120000
DTSTAMP:20260425T013921
CREATED:20200515T162227Z
LAST-MODIFIED:20200515T162227Z
UID:1166-1595070000-1595073600@www.yams.fi
SUMMARY:Seuranmestaruuskisat. Luodikko\, hirvet ja pistooli.
DESCRIPTION:Valvojat; P.Valtari\, S.Valtari\, Matti Punkari
URL:https://www.yams.fi/tapahtuma/seuranmestaruuskisat-luodikko-hirvet-ja-pistooli/
END:VEVENT
BEGIN:VEVENT
DTSTART;TZID=Europe/Helsinki:20200719T180000
DTEND;TZID=Europe/Helsinki:20200719T200000
DTSTAMP:20260425T013921
CREATED:20200525T142653Z
LAST-MODIFIED:20200525T142653Z
UID:1199-1595181600-1595188800@www.yams.fi
SUMMARY:Seuranmestaruus. Haulikko.
DESCRIPTION:
URL:https://www.yams.fi/tapahtuma/seuranmestaruus-haulikko-5/
END:VEVENT
BEGIN:VEVENT
DTSTART;TZID=Europe/Helsinki:20200724T180000
DTEND;TZID=Europe/Helsinki:20200724T190000
DTSTAMP:20260425T013921
CREATED:20200515T162647Z
LAST-MODIFIED:20200515T162647Z
UID:1168-1595613600-1595617200@www.yams.fi
SUMMARY:Harjoitusammunnat.
DESCRIPTION:Valvojat; P.Valtari\, S.Valtari\, Matti Punkari
URL:https://www.yams.fi/tapahtuma/harjoitusammunnat-6/
END:VEVENT
BEGIN:VEVENT
DTSTART;TZID=Europe/Helsinki:20200725T150000
DTEND;TZID=Europe/Helsinki:20200725T170000
DTSTAMP:20260425T013921
CREATED:20200525T142819Z
LAST-MODIFIED:20200525T142819Z
UID:1201-1595689200-1595696400@www.yams.fi
SUMMARY:RHY Kiekkokisa.
DESCRIPTION:
URL:https://www.yams.fi/tapahtuma/rhy-kiekkokisa-3/
END:VEVENT
BEGIN:VEVENT
DTSTART;TZID=Europe/Helsinki:20200731T180000
DTEND;TZID=Europe/Helsinki:20200731T190000
DTSTAMP:20260425T013921
CREATED:20200515T162902Z
LAST-MODIFIED:20200515T162902Z
UID:1170-1596218400-1596222000@www.yams.fi
SUMMARY:Kuukausikisa. Luodikko\, hirvet\, pistooli.
DESCRIPTION:Valvojat; H.Louko\, R.Karhunen\, A.Rimpisuo
URL:https://www.yams.fi/tapahtuma/kuukausikisa-luodikko-hirvet-pistooli-5/
END:VEVENT
END:VCALENDAR