BEGIN:VCALENDAR
VERSION:2.0
PRODID:-//Ylistaron Alapään Metsästysseura ry - ECPv6.15.20//NONSGML v1.0//EN
CALSCALE:GREGORIAN
METHOD:PUBLISH
X-WR-CALNAME:Ylistaron Alapään Metsästysseura ry
X-ORIGINAL-URL:https://www.yams.fi
X-WR-CALDESC:Tapahtumat Ylistaron Alapään Metsästysseura ry
REFRESH-INTERVAL;VALUE=DURATION:PT1H
X-Robots-Tag:noindex
X-PUBLISHED-TTL:PT1H
BEGIN:VTIMEZONE
TZID:Europe/Helsinki
BEGIN:DAYLIGHT
TZOFFSETFROM:+0200
TZOFFSETTO:+0300
TZNAME:EEST
DTSTART:20190331T010000
END:DAYLIGHT
BEGIN:STANDARD
TZOFFSETFROM:+0300
TZOFFSETTO:+0200
TZNAME:EET
DTSTART:20191027T010000
END:STANDARD
BEGIN:DAYLIGHT
TZOFFSETFROM:+0200
TZOFFSETTO:+0300
TZNAME:EEST
DTSTART:20200329T010000
END:DAYLIGHT
BEGIN:STANDARD
TZOFFSETFROM:+0300
TZOFFSETTO:+0200
TZNAME:EET
DTSTART:20201025T010000
END:STANDARD
BEGIN:DAYLIGHT
TZOFFSETFROM:+0200
TZOFFSETTO:+0300
TZNAME:EEST
DTSTART:20210328T010000
END:DAYLIGHT
BEGIN:STANDARD
TZOFFSETFROM:+0300
TZOFFSETTO:+0200
TZNAME:EET
DTSTART:20211031T010000
END:STANDARD
END:VTIMEZONE
BEGIN:VEVENT
DTSTART;TZID=Europe/Helsinki:20200605T180000
DTEND;TZID=Europe/Helsinki:20200605T190000
DTSTAMP:20260425T032706
CREATED:20200515T155446Z
LAST-MODIFIED:20200515T155446Z
UID:1150-1591380000-1591383600@www.yams.fi
SUMMARY:Harjoitusammunnat.
DESCRIPTION:Valvojat; J.Komppa\, A.Punkari\, K.Niinisalo
URL:https://www.yams.fi/tapahtuma/harjoitusammunnat/
END:VEVENT
BEGIN:VEVENT
DTSTART;TZID=Europe/Helsinki:20200607T180000
DTEND;TZID=Europe/Helsinki:20200607T200000
DTSTAMP:20260425T032706
CREATED:20200525T142348Z
LAST-MODIFIED:20200525T142348Z
UID:1193-1591552800-1591560000@www.yams.fi
SUMMARY:Haulikkoharjoitus
DESCRIPTION:
URL:https://www.yams.fi/tapahtuma/haulikkoharjoitus-26/
END:VEVENT
BEGIN:VEVENT
DTSTART;TZID=Europe/Helsinki:20200612T180000
DTEND;TZID=Europe/Helsinki:20200612T190000
DTSTAMP:20260425T032706
CREATED:20200515T155836Z
LAST-MODIFIED:20200515T155836Z
UID:1152-1591984800-1591988400@www.yams.fi
SUMMARY:Kuukausikisa. Luodikko\, hirvet ja pistooli.
DESCRIPTION:Valvojat; S.Suomalainen\, S.Lemponen\, Mika Punkari
URL:https://www.yams.fi/tapahtuma/kuukausikisa-luodikko-hirvet-ja-pistooli-2/
END:VEVENT
BEGIN:VEVENT
DTSTART;TZID=Europe/Helsinki:20200619T180000
DTEND;TZID=Europe/Helsinki:20200619T190000
DTSTAMP:20260425T032706
CREATED:20200515T160140Z
LAST-MODIFIED:20200515T161422Z
UID:1154-1592589600-1592593200@www.yams.fi
SUMMARY:Hyvää Juhannusta ! Ei ammuntoja.
DESCRIPTION:
URL:https://www.yams.fi/tapahtuma/harjoitusammunnat-2/
END:VEVENT
BEGIN:VEVENT
DTSTART;TZID=Europe/Helsinki:20200621T180000
DTEND;TZID=Europe/Helsinki:20200621T200000
DTSTAMP:20260425T032706
CREATED:20200525T142446Z
LAST-MODIFIED:20200525T142446Z
UID:1195-1592762400-1592769600@www.yams.fi
SUMMARY:Kuukausikisa. Haulikko.
DESCRIPTION:
URL:https://www.yams.fi/tapahtuma/kuukausikisa-haulikko-16/
END:VEVENT
BEGIN:VEVENT
DTSTART;TZID=Europe/Helsinki:20200626T180000
DTEND;TZID=Europe/Helsinki:20200626T190000
DTSTAMP:20260425T032706
CREATED:20200515T161617Z
LAST-MODIFIED:20200515T161617Z
UID:1160-1593194400-1593198000@www.yams.fi
SUMMARY:Harjoitusammunnat.
DESCRIPTION:Valvojat; S.Suomalainen\, S.Lemponen\, Mika Punkari
URL:https://www.yams.fi/tapahtuma/harjoitusammunnat-3/
END:VEVENT
END:VCALENDAR