BEGIN:VCALENDAR
VERSION:2.0
PRODID:-//Ylistaron Alapään Metsästysseura ry - ECPv6.15.20//NONSGML v1.0//EN
CALSCALE:GREGORIAN
METHOD:PUBLISH
X-ORIGINAL-URL:https://www.yams.fi
X-WR-CALDESC:Tapahtumat Ylistaron Alapään Metsästysseura ry
REFRESH-INTERVAL;VALUE=DURATION:PT1H
X-Robots-Tag:noindex
X-PUBLISHED-TTL:PT1H
BEGIN:VTIMEZONE
TZID:Europe/Helsinki
BEGIN:DAYLIGHT
TZOFFSETFROM:+0200
TZOFFSETTO:+0300
TZNAME:EEST
DTSTART:20180325T010000
END:DAYLIGHT
BEGIN:STANDARD
TZOFFSETFROM:+0300
TZOFFSETTO:+0200
TZNAME:EET
DTSTART:20181028T010000
END:STANDARD
BEGIN:DAYLIGHT
TZOFFSETFROM:+0200
TZOFFSETTO:+0300
TZNAME:EEST
DTSTART:20190331T010000
END:DAYLIGHT
BEGIN:STANDARD
TZOFFSETFROM:+0300
TZOFFSETTO:+0200
TZNAME:EET
DTSTART:20191027T010000
END:STANDARD
BEGIN:DAYLIGHT
TZOFFSETFROM:+0200
TZOFFSETTO:+0300
TZNAME:EEST
DTSTART:20200329T010000
END:DAYLIGHT
BEGIN:STANDARD
TZOFFSETFROM:+0300
TZOFFSETTO:+0200
TZNAME:EET
DTSTART:20201025T010000
END:STANDARD
END:VTIMEZONE
BEGIN:VEVENT
DTSTART;TZID=Europe/Helsinki:20190802T180000
DTEND;TZID=Europe/Helsinki:20190802T190000
DTSTAMP:20260425T213244
CREATED:20190505T101523Z
LAST-MODIFIED:20190505T101523Z
UID:1045-1564768800-1564772400@www.yams.fi
SUMMARY:Harjoitusammunnat. Valvojat: H. Louko\, R. Karhunen\, R. Lehtimäki
DESCRIPTION:
URL:https://www.yams.fi/tapahtuma/harjoitusammunnat-valvojat-h-louko-r-karhunen-r-lehtimaki/
END:VEVENT
BEGIN:VEVENT
DTSTART;TZID=Europe/Helsinki:20190804T180000
DTEND;TZID=Europe/Helsinki:20190804T200000
DTSTAMP:20260425T213244
CREATED:20190529T202658Z
LAST-MODIFIED:20190529T202658Z
UID:1086-1564941600-1564948800@www.yams.fi
SUMMARY:Kuukausikisa\, haulikko.
DESCRIPTION:
URL:https://www.yams.fi/tapahtuma/kuukausikisa-haulikko-14/
END:VEVENT
BEGIN:VEVENT
DTSTART;TZID=Europe/Helsinki:20190809T180000
DTEND;TZID=Europe/Helsinki:20190809T190000
DTSTAMP:20260425T213244
CREATED:20190505T102125Z
LAST-MODIFIED:20190505T102125Z
UID:1047-1565373600-1565377200@www.yams.fi
SUMMARY:Kuukausikisa. Luodikko\, hirvet\, pistooli. Valvojat: T. Sundberg\, P. Saarela\, A. Paloheimo
DESCRIPTION:
URL:https://www.yams.fi/tapahtuma/kuukausikisa-luodikko-hirvet-pistooli-valvojat-t-sundberg-p-saarela-a-paloheimo/
END:VEVENT
BEGIN:VEVENT
DTSTART;TZID=Europe/Helsinki:20190814T180000
DTEND;TZID=Europe/Helsinki:20190814T200000
DTSTAMP:20260425T213244
CREATED:20190723T192722Z
LAST-MODIFIED:20190723T192722Z
UID:1093-1565805600-1565812800@www.yams.fi
SUMMARY:Valtion merkkiammunta. Valvojat: Juha Rusula\, Markus Soinne\, Timo Punkari\, Jussi Komppa
DESCRIPTION:
URL:https://www.yams.fi/tapahtuma/valtion-merkkiammunta-valvojat-juha-rusula-markus-soinne-timo-punkari-jussi-komppa/
END:VEVENT
BEGIN:VEVENT
DTSTART;TZID=Europe/Helsinki:20190816T180000
DTEND;TZID=Europe/Helsinki:20190816T190000
DTSTAMP:20260425T213244
CREATED:20190505T102255Z
LAST-MODIFIED:20190505T102255Z
UID:1050-1565978400-1565982000@www.yams.fi
SUMMARY:Harjoitusammunnat. Valvojat: T. Sundberg\, P.Saarela\, A. Paloheimo
DESCRIPTION:
URL:https://www.yams.fi/tapahtuma/harjoitusammunnat-valvojat-t-sundberg-p-saarela-a-paloheimo/
END:VEVENT
BEGIN:VEVENT
DTSTART;TZID=Europe/Helsinki:20190823T180000
DTEND;TZID=Europe/Helsinki:20190823T190000
DTSTAMP:20260425T213244
CREATED:20190505T102431Z
LAST-MODIFIED:20190505T102431Z
UID:1052-1566583200-1566586800@www.yams.fi
SUMMARY:Hirvimerkki harjoitus. Valvojat: P. Lemponen\, Matti Punkari\, E. Rusula
DESCRIPTION:
URL:https://www.yams.fi/tapahtuma/hirvimerkki-harjoitus-valvojat-p-lemponen-matti-punkari-e-rusula/
END:VEVENT
BEGIN:VEVENT
DTSTART;TZID=Europe/Helsinki:20190824T100000
DTEND;TZID=Europe/Helsinki:20190824T150000
DTSTAMP:20260425T213244
CREATED:20190812T083033Z
LAST-MODIFIED:20190812T085120Z
UID:1118-1566640800-1566658800@www.yams.fi
SUMMARY:Kökkä Turvapirtillä lauantaina 24.8. klo 10.00. ps. ota mukaan työkaluja mm. lapio\, vasara\, raivaussaha yms. Tervetuloa mukaan ! t. Johtokunta
DESCRIPTION:
URL:https://www.yams.fi/tapahtuma/kokka-turvapirtilla-lauantaina-24-8-klo-10-00-ps-ota-mukaan-tyokaluja-mm-lapio-vasara-raivaussaha-yms-tervetuloa-mukaan-t-johtokunta/
END:VEVENT
BEGIN:VEVENT
DTSTART;TZID=Europe/Helsinki:20190825T120000
DTEND;TZID=Europe/Helsinki:20190825T140000
DTSTAMP:20260425T213244
CREATED:20190723T193134Z
LAST-MODIFIED:20190723T193134Z
UID:1098-1566734400-1566741600@www.yams.fi
SUMMARY:Valtion merkkiammunta. Valvojat: Kari Niinisalo\, Heikki Punkari\, Petri Valtari\, Mika Punkari
DESCRIPTION:
URL:https://www.yams.fi/tapahtuma/valtion-merkkiammunta-valvojat-kari-niinisalo-heikki-punkari-petri-valtari-mika-punkari/
END:VEVENT
BEGIN:VEVENT
DTSTART;TZID=Europe/Helsinki:20190830T180000
DTEND;TZID=Europe/Helsinki:20190830T190000
DTSTAMP:20260425T213244
CREATED:20190505T102601Z
LAST-MODIFIED:20190505T102601Z
UID:1054-1567188000-1567191600@www.yams.fi
SUMMARY:Harjoitusammunat. Valvojat: P. Lemponen\, Matti Punkari\, E. Rusula
DESCRIPTION:
URL:https://www.yams.fi/tapahtuma/harjoitusammunat-valvojat-p-lemponen-matti-punkari-e-rusula/
END:VEVENT
END:VCALENDAR