BEGIN:VCALENDAR
VERSION:2.0
PRODID:-//Ylistaron Alapään Metsästysseura ry - ECPv6.15.20//NONSGML v1.0//EN
CALSCALE:GREGORIAN
METHOD:PUBLISH
X-ORIGINAL-URL:https://www.yams.fi
X-WR-CALDESC:Tapahtumat Ylistaron Alapään Metsästysseura ry
REFRESH-INTERVAL;VALUE=DURATION:PT1H
X-Robots-Tag:noindex
X-PUBLISHED-TTL:PT1H
BEGIN:VTIMEZONE
TZID:Europe/Helsinki
BEGIN:DAYLIGHT
TZOFFSETFROM:+0200
TZOFFSETTO:+0300
TZNAME:EEST
DTSTART:20180325T010000
END:DAYLIGHT
BEGIN:STANDARD
TZOFFSETFROM:+0300
TZOFFSETTO:+0200
TZNAME:EET
DTSTART:20181028T010000
END:STANDARD
BEGIN:DAYLIGHT
TZOFFSETFROM:+0200
TZOFFSETTO:+0300
TZNAME:EEST
DTSTART:20190331T010000
END:DAYLIGHT
BEGIN:STANDARD
TZOFFSETFROM:+0300
TZOFFSETTO:+0200
TZNAME:EET
DTSTART:20191027T010000
END:STANDARD
BEGIN:DAYLIGHT
TZOFFSETFROM:+0200
TZOFFSETTO:+0300
TZNAME:EEST
DTSTART:20200329T010000
END:DAYLIGHT
BEGIN:STANDARD
TZOFFSETFROM:+0300
TZOFFSETTO:+0200
TZNAME:EET
DTSTART:20201025T010000
END:STANDARD
END:VTIMEZONE
BEGIN:VEVENT
DTSTART;TZID=Europe/Helsinki:20190524T180000
DTEND;TZID=Europe/Helsinki:20190524T190000
DTSTAMP:20260426T024744
CREATED:20190505T084149Z
LAST-MODIFIED:20190505T084149Z
UID:1020-1558720800-1558724400@www.yams.fi
SUMMARY:
DESCRIPTION:KUUKAUSIKISA: luodikko\, hirvet\, pistooli. \nValvojat; J. Komppa\, H. Punkari\, K. Niinisalo
URL:https://www.yams.fi/tapahtuma/1020/
END:VEVENT
BEGIN:VEVENT
DTSTART;TZID=Europe/Helsinki:20190524T180000
DTEND;TZID=Europe/Helsinki:20190524T190000
DTSTAMP:20260426T024744
CREATED:20190505T084734Z
LAST-MODIFIED:20190505T084734Z
UID:1022-1558720800-1558724400@www.yams.fi
SUMMARY:Kuukausikisa. Luodikko\, hirvet\, pistooli. Valvojat; J. Komppa\, H. Punkari\, K. Niinisalo
DESCRIPTION:
URL:https://www.yams.fi/tapahtuma/kuukausikisa-luodikko-hirvet-pistooli-valvojat-j-komppa-h-punkari-k-niinisalo/
END:VEVENT
BEGIN:VEVENT
DTSTART;TZID=Europe/Helsinki:20190531T180000
DTEND;TZID=Europe/Helsinki:20190531T190000
DTSTAMP:20260426T024744
CREATED:20190505T085754Z
LAST-MODIFIED:20190505T085754Z
UID:1024-1559325600-1559329200@www.yams.fi
SUMMARY:Harjoitusammunnat. Valvojat; J. Komppa\, H. Punkari\, K. Niinisalo
DESCRIPTION:
URL:https://www.yams.fi/tapahtuma/harjoitusammunnat-valvojat-j-komppa-h-punkari-k-niinisalo/
END:VEVENT
END:VCALENDAR